BEGIN:VCALENDAR
VERSION:2.0
PRODID:-//Cheri Norris | Entrepreneur, Author, Recovery Advocate, Keynote Speaker - ECPv6.15.20//NONSGML v1.0//EN
CALSCALE:GREGORIAN
METHOD:PUBLISH
X-WR-CALNAME:Cheri Norris | Entrepreneur, Author, Recovery Advocate, Keynote Speaker
X-ORIGINAL-URL:https://cherinorris.com
X-WR-CALDESC:Events for Cheri Norris | Entrepreneur, Author, Recovery Advocate, Keynote Speaker
REFRESH-INTERVAL;VALUE=DURATION:PT1H
X-Robots-Tag:noindex
X-PUBLISHED-TTL:PT1H
BEGIN:VTIMEZONE
TZID:America/Chicago
BEGIN:DAYLIGHT
TZOFFSETFROM:-0600
TZOFFSETTO:-0500
TZNAME:CDT
DTSTART:20230312T080000
END:DAYLIGHT
BEGIN:STANDARD
TZOFFSETFROM:-0500
TZOFFSETTO:-0600
TZNAME:CST
DTSTART:20231105T070000
END:STANDARD
BEGIN:DAYLIGHT
TZOFFSETFROM:-0600
TZOFFSETTO:-0500
TZNAME:CDT
DTSTART:20240310T080000
END:DAYLIGHT
BEGIN:STANDARD
TZOFFSETFROM:-0500
TZOFFSETTO:-0600
TZNAME:CST
DTSTART:20241103T070000
END:STANDARD
BEGIN:DAYLIGHT
TZOFFSETFROM:-0600
TZOFFSETTO:-0500
TZNAME:CDT
DTSTART:20250309T080000
END:DAYLIGHT
BEGIN:STANDARD
TZOFFSETFROM:-0500
TZOFFSETTO:-0600
TZNAME:CST
DTSTART:20251102T070000
END:STANDARD
END:VTIMEZONE
BEGIN:VEVENT
DTSTART;TZID=America/Chicago:20241224T070000
DTEND;TZID=America/Chicago:20241224T080000
DTSTAMP:20260421T155428
CREATED:20241206T200059Z
LAST-MODIFIED:20241206T205905Z
UID:136-1735023600-1735027200@cherinorris.com
SUMMARY:Weekly Recovery Call: Christmas Eve 2024
DESCRIPTION:Our weekly recovery call is held every Tuesday at 7:00 AM U.S. Central Time. This is a video call for people who are in recovery or curious about sobriety. You can remain anonymous\, keep your camera off\, or just listen as others share their recovery experiences. This is a safe space where everyone is welcome\, and is always free. We are not affiliated with any specific program or religious organization. \n\n\n\nTo join\, please use the Zoom link below: \n\n\n\nhttps://us02web.zoom.us/j/88393387813?pwd=ZTBIQ2lwR2dybk14UFdYdzRaOXp0QT09 \n\n\n\n Meeting ID: 883 9338 7813 \n\n\n\nPasscode: ZLr5Gt
URL:https://cherinorris.com/event/weekly-recovery-call-3/
CATEGORIES:Virtual Events
END:VEVENT
BEGIN:VEVENT
DTSTART;TZID=America/Chicago:20241217T070000
DTEND;TZID=America/Chicago:20241217T200000
DTSTAMP:20260421T155428
CREATED:20241206T195911Z
LAST-MODIFIED:20241206T205907Z
UID:135-1734418800-1734465600@cherinorris.com
SUMMARY:Weekly Recovery Call: 12/17
DESCRIPTION:Our weekly recovery call is held every Tuesday at 7:00 AM U.S. Central Time. This is a video call for people who are in recovery or curious about sobriety. You can remain anonymous\, keep your camera off\, or just listen as others share their recovery experiences. This is a safe space where everyone is welcome\, and is always free. We are not affiliated with any specific program or religious organization. \n\n\n\nTo join\, please use the Zoom link below: \n\n\n\nhttps://us02web.zoom.us/j/88393387813?pwd=ZTBIQ2lwR2dybk14UFdYdzRaOXp0QT09 \n\n\n\n Meeting ID: 883 9338 7813 \n\n\n\nPasscode: ZLr5Gt
URL:https://cherinorris.com/event/weekly-recovery-call-2/
CATEGORIES:Virtual Events
END:VEVENT
BEGIN:VEVENT
DTSTART;TZID=America/Chicago:20241210T070000
DTEND;TZID=America/Chicago:20241210T080000
DTSTAMP:20260421T155428
CREATED:20241206T195417Z
LAST-MODIFIED:20241206T205910Z
UID:133-1733814000-1733817600@cherinorris.com
SUMMARY:Weekly Recovery Call: 12/10
DESCRIPTION:Our weekly recovery call is held every Tuesday at 7:00 AM U.S. Central Time. This is a video call for people who are in recovery or curious about sobriety. You can remain anonymous\, keep your camera off\, or just listen as others share their recovery experiences. This is a safe space where everyone is welcome\, and is always free. We are not affiliated with any specific program or religious organization. \n\n\n\nTo join\, please use the Zoom link below: \n\n\n\nhttps://us02web.zoom.us/j/88393387813?pwd=ZTBIQ2lwR2dybk14UFdYdzRaOXp0QT09 \n\n\n\n Meeting ID: 883 9338 7813 \n\n\n\nPasscode: ZLr5Gt
URL:https://cherinorris.com/event/weekly-recovery-call/
CATEGORIES:Virtual Events
END:VEVENT
END:VCALENDAR